BEGIN:VCALENDAR
VERSION:2.0
PRODID:-//Lunar Lotus Retreats - ECPv6.15.20//NONSGML v1.0//EN
CALSCALE:GREGORIAN
METHOD:PUBLISH
X-WR-CALNAME:Lunar Lotus Retreats
X-ORIGINAL-URL:https://lunarlotus.org
X-WR-CALDESC:Events for Lunar Lotus Retreats
REFRESH-INTERVAL;VALUE=DURATION:PT1H
X-Robots-Tag:noindex
X-PUBLISHED-TTL:PT1H
BEGIN:VTIMEZONE
TZID:Europe/London
BEGIN:DAYLIGHT
TZOFFSETFROM:+0000
TZOFFSETTO:+0100
TZNAME:BST
DTSTART:20210328T010000
END:DAYLIGHT
BEGIN:STANDARD
TZOFFSETFROM:+0100
TZOFFSETTO:+0000
TZNAME:GMT
DTSTART:20211031T010000
END:STANDARD
BEGIN:DAYLIGHT
TZOFFSETFROM:+0000
TZOFFSETTO:+0100
TZNAME:BST
DTSTART:20220327T010000
END:DAYLIGHT
BEGIN:STANDARD
TZOFFSETFROM:+0100
TZOFFSETTO:+0000
TZNAME:GMT
DTSTART:20221030T010000
END:STANDARD
BEGIN:DAYLIGHT
TZOFFSETFROM:+0000
TZOFFSETTO:+0100
TZNAME:BST
DTSTART:20230326T010000
END:DAYLIGHT
BEGIN:STANDARD
TZOFFSETFROM:+0100
TZOFFSETTO:+0000
TZNAME:GMT
DTSTART:20231029T010000
END:STANDARD
END:VTIMEZONE
BEGIN:VTIMEZONE
TZID:America/Los_Angeles
BEGIN:DAYLIGHT
TZOFFSETFROM:-0800
TZOFFSETTO:-0700
TZNAME:PDT
DTSTART:20140309T100000
END:DAYLIGHT
BEGIN:STANDARD
TZOFFSETFROM:-0700
TZOFFSETTO:-0800
TZNAME:PST
DTSTART:20141102T090000
END:STANDARD
BEGIN:DAYLIGHT
TZOFFSETFROM:-0800
TZOFFSETTO:-0700
TZNAME:PDT
DTSTART:20150308T100000
END:DAYLIGHT
BEGIN:STANDARD
TZOFFSETFROM:-0700
TZOFFSETTO:-0800
TZNAME:PST
DTSTART:20151101T090000
END:STANDARD
BEGIN:DAYLIGHT
TZOFFSETFROM:-0800
TZOFFSETTO:-0700
TZNAME:PDT
DTSTART:20160313T100000
END:DAYLIGHT
BEGIN:STANDARD
TZOFFSETFROM:-0700
TZOFFSETTO:-0800
TZNAME:PST
DTSTART:20161106T090000
END:STANDARD
BEGIN:DAYLIGHT
TZOFFSETFROM:-0800
TZOFFSETTO:-0700
TZNAME:PDT
DTSTART:20170312T100000
END:DAYLIGHT
BEGIN:STANDARD
TZOFFSETFROM:-0700
TZOFFSETTO:-0800
TZNAME:PST
DTSTART:20171105T090000
END:STANDARD
BEGIN:DAYLIGHT
TZOFFSETFROM:-0800
TZOFFSETTO:-0700
TZNAME:PDT
DTSTART:20180311T100000
END:DAYLIGHT
BEGIN:STANDARD
TZOFFSETFROM:-0700
TZOFFSETTO:-0800
TZNAME:PST
DTSTART:20181104T090000
END:STANDARD
BEGIN:DAYLIGHT
TZOFFSETFROM:-0800
TZOFFSETTO:-0700
TZNAME:PDT
DTSTART:20190310T100000
END:DAYLIGHT
BEGIN:STANDARD
TZOFFSETFROM:-0700
TZOFFSETTO:-0800
TZNAME:PST
DTSTART:20191103T090000
END:STANDARD
END:VTIMEZONE
BEGIN:VEVENT
DTSTART;TZID=Europe/London:20220308T160000
DTEND;TZID=Europe/London:20220308T200000
DTSTAMP:20260424T033759
CREATED:20220304T215347Z
LAST-MODIFIED:20230408T021902Z
UID:1652-1646755200-1646769600@lunarlotus.org
SUMMARY:International Women's Day - Self-Empowerment Shoot at FEMX Studio
DESCRIPTION:What does empowerment mean to you? What does that look like?\nAre you in lingerie\, or sweatpants? Maybe a suit\, or ball gown! \nWe are seeking five participants for a Self-Empowerment Mini Session Marathon\, on International Women’s Day 3/8/22. \nWomen need the opportunity to be seen\, if even just by themselves!\nThe session fee (ticket price) will be donated to Center for Community Solutions. \n \nCCS is committed to helping survivors of intimate partner violence and sexual assault lead safer and healthier lives. \nIf you want to donate to CCS SD directly\, or volunteer\, please visit their website \nhttps://www.ccssd.org/how-to-help/volunteer.html \n** PLEASE NOTE: If you choose boudoir-style photos and decide to post them publicly\, we ask that you make not mention of the charity\, Center for Community Solutions. This is not an issue of the photography\, but more out of sensitivity to how some survivors may react to boudoir photography that has nothing to do with the positives of this form. Thank you for your understanding. \nLocal female-owned businesses are donating hair/makeup\, each participant will receive gift bags\, and one lucky lady will win a prize from Savage X Fenty!\n \n\nIn order to apply for a spot\, you must agree to the following:\n\nParticipants will have the opportunity to purchase their photos as beautiful artwork\, and will receive social media files of any purchased images.\nThe full process will include in-person consultations before the event where we discuss what empowerment means to each participant\, and help them set intentions. We will then design a photo concept unique to them\, and discuss potential outfits.\n\nSophie Hague of Positive Phee has offered additional 30 min styling consultations participants can elect to schedule separately. \n\nBe prepared to be open and vulnerable to allow for this full process to take hold.\n\n\nA second consultation to be scheduled after the photos are ready for viewing. Together we will check in on your experience\, how your integration is going\, and pick out artwork.\n\n\nModel release must be signed\n\n  \n\n\nNow the legal mumbo jumbo: By purchasing a ticket\, you acknowledge that you have read and understood the Terms and Conditions in its entirety and agree to abide by it as it is listed below. \n~~~~~~~~~~~~~~~~~~~~~~~~~~~~~~~~~~~~ \nThe Legal Stuff You Must Agree To:\n(Terms and Conditions) \n  \nEvent sponsors have made every effort to make this event a safe and productive gathering. By attending you acknowledge and agree to the following: \n  \nCOVID-19: The event is face mask optional. While many attendees are fully vaccinated for COVID-19\, in person event participation includes possible exposure to and risk of infection from COVID-19. Do NOT attend if you are sick or within the past 10 days have experienced any symptoms associated with COVID-19\, including fever\, cough\, and shortness of breath. \n  \nMINORS: Children under 15 years old must be accompanied by an adult\, and if you do not want your child(ren) to be photographed\, please work with the event sponsors directly. *see PHOTOGRAPHY below \n  \nFOOD & DRINK: The event may include alcoholic beverages and you must be 21+ to consume alcohol. Attendees acknowledge that they are aware of the risks of participation including food sickness and allergic reactions. \n  \nPHOTOGRAPHY: Photography and videos may be taken during the event by sponsors and attendees. Photos and videos of the event and attendees may be used in marketing\, publicity\, and social media. \n  \nWAIVER OF LIABILITY: By attending the event\, and in light of the above\, you acknowledge the inherent risks of participation and agree to voluntarily assume all risks. You agree not to hold any event sponsors or attendees liable for any illness or injury that may occur. Any reliance you place on the information\, products\, or services provided is strictly at your own risk. You agree that sponsors and attendees are not liable for any decisions made or actions taken in reliance on information provided. \n  \nPAYMENT & CANCELLATION Full advance payment is required to attend. Please note that reimbursements for cancellations or no-shows will not be given so be absolutely sure you’re attending when you book. Speak to us regarding any illness/covid concerns prior to the event date for possible reschedule to another event.
URL:https://lunarlotus.org/event/international-womens-day-self-empowerment-shoot/
LOCATION:FEMX QUARTERS\, 1919 San Diego Avenue\, San Diego\, CA\, 92110\, United States
CATEGORIES:Charity,Creative Expression,Empowerment,Fundraising
ATTACH;FMTTYPE=image/jpeg:https://lunarlotus.org/wp-content/uploads/2022/03/empowerment-scaled.jpg
END:VEVENT
BEGIN:VEVENT
DTSTART;TZID=America/Los_Angeles:20180310T080000
DTEND;TZID=America/Los_Angeles:20180318T170000
DTSTAMP:20260424T033759
CREATED:20180311T011008Z
LAST-MODIFIED:20230408T024540Z
UID:2935-1520668800-1521392400@lunarlotus.org
SUMMARY:Seats & Feets: Homeless Drive by Shangri-Love and Karma Delivers
DESCRIPTION:We are hosting local drives (in multple cities)\, for donations to local homeless shelters/programs.\nRequested items are (new) socks\, undergarments\, hygiene products; and blankets.\n\nPlease contact us if you are interested in joining!\n\nHygiene products include\, but are not limited to:\n\nToothbrushes\nToothpaste\nDental Floss\nMouth Wash\nLip Balm\nFace/Hand Soap\nShampoo/Conditioner\nBar Soap/Body Wash\nLotion\nCombs\nWipes\nFeminine Products\nCotton Swabs\nBand-Aids\nDeodorant\nTissues\nHand Sanitizer\nSunscreen\n\n**Travel sized items preferred
URL:https://lunarlotus.org/event/seats-feets-homeless-drive-by-shangri-love-and-karma-delivers/
LOCATION:CA
CATEGORIES:Charity,Fundraising
ATTACH;FMTTYPE=image/jpeg:https://lunarlotus.org/wp-content/uploads/2022/03/seats-and-feets.jpg
END:VEVENT
BEGIN:VEVENT
DTSTART;TZID=America/Los_Angeles:20151103T080000
DTEND;TZID=America/Los_Angeles:20151130T170000
DTSTAMP:20260424T033759
CREATED:20151102T012152Z
LAST-MODIFIED:20230408T024012Z
UID:2938-1446537600-1448902800@lunarlotus.org
SUMMARY:El Niño "Winter Warm" Drive for the Homeless of San Diego
DESCRIPTION:With El Niño bearing down on San Diego this winter\, Alpha Project is collecting blankets\, warm clothing\, and water resistant items like ponchos.\n\nWe will take everything collectively to the 5th ave center\, or you can donate directly to Alpha Project if you prefer.\n3737 Fifth Ave\, Ste 203 92103\nFrom the Alpha Project website:\n\n\n“Donate Personal Items\n\nAlpha Project does not operate any thrift stores. Therefore\, we only accept items that we can use immediately due to our storage capacity.\n\nItems that are always needed include hygiene products\, towels\, twin sheets\, undergarments\, blankets\, books\, clothing in good condition\, coats\, blankets\, socks\, and pillows. Other items that may be helpful include bunk beds\, filing cabinets\, tables\, and other household and office items.\n\nThank you for thinking of Alpha Project.”
URL:https://lunarlotus.org/event/el-nino-winter-warm-drive-for-the-homeless-of-san-diego/
LOCATION:CA
CATEGORIES:Charity,Fundraising
ATTACH;FMTTYPE=image/jpeg:https://lunarlotus.org/wp-content/uploads/2022/03/Winter-Warm.jpg
END:VEVENT
END:VCALENDAR