BEGIN:VCALENDAR
VERSION:2.0
PRODID:-//Lunar Lotus Retreats - ECPv6.15.20//NONSGML v1.0//EN
CALSCALE:GREGORIAN
METHOD:PUBLISH
X-ORIGINAL-URL:https://lunarlotus.org
X-WR-CALDESC:Events for Lunar Lotus Retreats
REFRESH-INTERVAL;VALUE=DURATION:PT1H
X-Robots-Tag:noindex
X-PUBLISHED-TTL:PT1H
BEGIN:VTIMEZONE
TZID:America/Los_Angeles
BEGIN:DAYLIGHT
TZOFFSETFROM:-0800
TZOFFSETTO:-0700
TZNAME:PDT
DTSTART:20150308T100000
END:DAYLIGHT
BEGIN:STANDARD
TZOFFSETFROM:-0700
TZOFFSETTO:-0800
TZNAME:PST
DTSTART:20151101T090000
END:STANDARD
BEGIN:DAYLIGHT
TZOFFSETFROM:-0800
TZOFFSETTO:-0700
TZNAME:PDT
DTSTART:20160313T100000
END:DAYLIGHT
BEGIN:STANDARD
TZOFFSETFROM:-0700
TZOFFSETTO:-0800
TZNAME:PST
DTSTART:20161106T090000
END:STANDARD
BEGIN:DAYLIGHT
TZOFFSETFROM:-0800
TZOFFSETTO:-0700
TZNAME:PDT
DTSTART:20170312T100000
END:DAYLIGHT
BEGIN:STANDARD
TZOFFSETFROM:-0700
TZOFFSETTO:-0800
TZNAME:PST
DTSTART:20171105T090000
END:STANDARD
BEGIN:DAYLIGHT
TZOFFSETFROM:-0800
TZOFFSETTO:-0700
TZNAME:PDT
DTSTART:20180311T100000
END:DAYLIGHT
BEGIN:STANDARD
TZOFFSETFROM:-0700
TZOFFSETTO:-0800
TZNAME:PST
DTSTART:20181104T090000
END:STANDARD
BEGIN:DAYLIGHT
TZOFFSETFROM:-0800
TZOFFSETTO:-0700
TZNAME:PDT
DTSTART:20190310T100000
END:DAYLIGHT
BEGIN:STANDARD
TZOFFSETFROM:-0700
TZOFFSETTO:-0800
TZNAME:PST
DTSTART:20191103T090000
END:STANDARD
BEGIN:DAYLIGHT
TZOFFSETFROM:-0800
TZOFFSETTO:-0700
TZNAME:PDT
DTSTART:20200308T100000
END:DAYLIGHT
BEGIN:STANDARD
TZOFFSETFROM:-0700
TZOFFSETTO:-0800
TZNAME:PST
DTSTART:20201101T090000
END:STANDARD
BEGIN:DAYLIGHT
TZOFFSETFROM:-0800
TZOFFSETTO:-0700
TZNAME:PDT
DTSTART:20210314T100000
END:DAYLIGHT
BEGIN:STANDARD
TZOFFSETFROM:-0700
TZOFFSETTO:-0800
TZNAME:PST
DTSTART:20211107T090000
END:STANDARD
BEGIN:DAYLIGHT
TZOFFSETFROM:-0800
TZOFFSETTO:-0700
TZNAME:PDT
DTSTART:20220313T100000
END:DAYLIGHT
BEGIN:STANDARD
TZOFFSETFROM:-0700
TZOFFSETTO:-0800
TZNAME:PST
DTSTART:20221106T090000
END:STANDARD
BEGIN:DAYLIGHT
TZOFFSETFROM:-0800
TZOFFSETTO:-0700
TZNAME:PDT
DTSTART:20230312T100000
END:DAYLIGHT
BEGIN:STANDARD
TZOFFSETFROM:-0700
TZOFFSETTO:-0800
TZNAME:PST
DTSTART:20231105T090000
END:STANDARD
BEGIN:DAYLIGHT
TZOFFSETFROM:-0800
TZOFFSETTO:-0700
TZNAME:PDT
DTSTART:20240310T100000
END:DAYLIGHT
BEGIN:STANDARD
TZOFFSETFROM:-0700
TZOFFSETTO:-0800
TZNAME:PST
DTSTART:20241103T090000
END:STANDARD
END:VTIMEZONE
BEGIN:VTIMEZONE
TZID:Europe/London
BEGIN:DAYLIGHT
TZOFFSETFROM:+0000
TZOFFSETTO:+0100
TZNAME:BST
DTSTART:20210328T010000
END:DAYLIGHT
BEGIN:STANDARD
TZOFFSETFROM:+0100
TZOFFSETTO:+0000
TZNAME:GMT
DTSTART:20211031T010000
END:STANDARD
BEGIN:DAYLIGHT
TZOFFSETFROM:+0000
TZOFFSETTO:+0100
TZNAME:BST
DTSTART:20220327T010000
END:DAYLIGHT
BEGIN:STANDARD
TZOFFSETFROM:+0100
TZOFFSETTO:+0000
TZNAME:GMT
DTSTART:20221030T010000
END:STANDARD
BEGIN:DAYLIGHT
TZOFFSETFROM:+0000
TZOFFSETTO:+0100
TZNAME:BST
DTSTART:20230326T010000
END:DAYLIGHT
BEGIN:STANDARD
TZOFFSETFROM:+0100
TZOFFSETTO:+0000
TZNAME:GMT
DTSTART:20231029T010000
END:STANDARD
END:VTIMEZONE
BEGIN:VEVENT
DTSTART;TZID=America/Los_Angeles:20230702T180000
DTEND;TZID=America/Los_Angeles:20230702T200000
DTSTAMP:20260424T004059
CREATED:20230505T005407Z
LAST-MODIFIED:20230505T010110Z
UID:6103-1688320800-1688328000@lunarlotus.org
SUMMARY:Walking Tall Series: Self-Defense Intro and Sound Bath
DESCRIPTION:Walking Tall Series: Self-Defense Intro and Sound Bath\nPart of the Walking Tall Series: Empowerment & Expansion collection\nWe’re all looking for a reason to reinvent ourselves. These events are designed to leave you feeling empowered & ready to take on the world. \n \n\n\nAbout THIS Event Date:\nExperience a shift in your brainwave state through rhythm and frequencies provided by J.Han. Sound baths help us change our internal frequency to one where internal healing can occur. \nAbout The Instructor:\nJ. Han is a multi-talented entrepreneur\, author\, and sound bath facilitator with a passion for co-creation and adventure. As the owner of Closet\, an innovative fashion boutique in San Diego\, CA. \nHer unique approach to sound healing has been acknowledged for its creativity\, expressiveness\, and ability to leave participants feeling calm and at ease. With her keen sense of intuition and her ability to tap into the healing power of sound\, J.Han creates immersive experiences that are both restorative and deeply transformative. \nWhether you’re seeking relief from stress and anxiety or simply looking to connect more deeply with yourself\, J. Han’s sound baths are an experience not to be missed. \n♡ ♡ ♡ \n\n\n\n\n\n\n\n\n\nAbout The Event Series:\nWe are beyond excited to be working with some amazing people and organizations to create this new series of events that include a mix of the spiritual with self-defense training.🙌 \nThese community events are designed to leave participants feeling empowered\, expressed\, and ready to become the author of their own lives. \nThe Mission:\nRaise $5\,000 for Center for Community Solutions \, while helping at least 50 people. Help us support this amazing organization\, while giving yourself the gift of self care. \nKeep reading to learn about CCS\, the Events we’re hosting\, FAQs and more!\nWant to see Testimonials? Check out our landing page on our website: https://lunarlotus.org/walking-tall/ \n\n\n\n\n\n\n\n\n\nLearn powerful techniques from our coaches that will help you create a vision for your new life.\nAll events will contain an Introduction to Self-Defense Training combined with one or more of the following modalities: \n\nYoga\nSound Healing\nEmpowerment Coaching\nMeditation/Breathing Techniques\nSomatic Release\nCreative Art Expression\n\nExperience methods of deeply connecting with your body\, to help you find your inner wisdom\n\n\n\n\n\n\n\n\n\nEvery event will have an hour dedicated to teaching introductory Krav Maga self-defense techniques\, including:\n\nSituational Awareness\nPressure Point Executions\nChoke/Grab Hold Releases\nA Take Home Packet of Legal/Community Resources\n\n\n\n\n\n\n\n\n\n\nThe Organization:\nCenter for Community Solutions is a San Diego non-profit dedicated to ending relationship and sexual violence. \nSince 1969\, CCS has been providing trauma-informed\, wrap-around services to empower survivors as they heal and recover from trauma. \nCCS’ free services include a 24/7 confidential crisis hotline\, four domestic violence shelters\, counseling\, legal services\, safety planning\, prevention education and more. \n\n\n\n\n\n\n\n\n\n  \n \nNow the legal mumbo jumbo: By purchasing a ticket\, you acknowledge that you have read and understood the Terms and Conditions in its entirety and agree to abide by it as it is listed below. \nThe Legal Stuff You Must Agree To: (Terms and Conditions)\nEvent sponsors have made every effort to make this event a safe and productive gathering. By attending you acknowledge and agree to the following: \nTRIGGER WARNING: During this event there will be both stories and demonstrations shared that could be triggering to certain individuals\, depending on their personal experiences. \nMINORS: Children under 15 years old must be accompanied by an adult. \nWAIVER OF LIABILITY: By attending the event\, and in light of the above\, you acknowledge the inherent risks of participation and agree to voluntarily assume all risks. You agree not to hold any event sponsors or attendees liable for any illness or injury that may occur. \nAny reliance you place on the information\, products\, or services provided is strictly at your own risk. You agree that sponsors and attendees are not liable for any decisions made or actions taken in reliance on information provided. \nYou agree to sign a physical liability waiver upon arrival for the Self-Defense Instructor\, and potentially an additional waiver for the venue where the event is hosted. \nPAYMENT & CANCELLATION: Full advance payment is required to attend. Please note that reimbursements for cancellations within the 7 day refund policy\, or no-shows\, will not be given so be absolutely sure you’re attending when you book. Speak to us regarding any illness/covid concerns prior to the event date for possible reschedule to another event.
URL:https://lunarlotus.org/event/walking-tall-series-self-defense-intro-and-sound-bath/
LOCATION:Pier to Point Wellness\, 4166 Voltaire St\, San Diego\, CA\, 92107\, United States
CATEGORIES:Charity,Empowerment,Fundraising,Meditation,Self-Defense,Sound Healing,Walking Tall,Workshop
ATTACH;FMTTYPE=image/jpeg:https://lunarlotus.org/wp-content/uploads/2022/03/IMG_2672-Edit.jpg
END:VEVENT
BEGIN:VEVENT
DTSTART;TZID=America/Los_Angeles:20220515T180000
DTEND;TZID=America/Los_Angeles:20220515T210000
DTSTAMP:20260424T004059
CREATED:20220321T035338Z
LAST-MODIFIED:20230408T021213Z
UID:3140-1652637600-1652648400@lunarlotus.org
SUMMARY:Mother Wound Workshop - Sound Healing and Cacao Ceremony
DESCRIPTION:Join us the weekend after Mother’s Day in sacred circle\, honoring the cacao spirit\, and humbly asking for our intentions to be heard to heal the Mother Wound. \nWe will begin our heart-opening cacao ceremony with a brief talk from Maddie of Rise Above Yoga discussing how a mother wound manifests in our lives\, and tools we can use to create a mindset shift that will give us the tools to forgive\, and let go. \nWe will share our experiences and set our intentions\, as Maddie will take us on a trauma-informed journey towards releasing limitations/blockages stemming from the mother wound. Once we find our Theta brainwave state\, we will bask in the resonant frequencies of an Alchemy Sound Bowl Healing provided by Jennifer Praizler of Lucidity Healing Arts. \nCacao helps disperse any blockages around the heart and coupled with the vibrations from the healing sounds we experience healing at a cellular level to rebalance the physical\, emotional and spiritual bodies. \nFurthermore\, drinking cacao provides us with multiple benefits. Besides being considered a superfood\, it also counts antioxidant and antidepressant properties. \nCacao stimulates the production of endorphins\, which allows the human body to enjoy an increased state of wellness\, helping it strive through physical and mental stress with much more ease. \nWhy Do This Work?\nThis work is not about blame. \nThis is not about blaming one’s mother\, or grandmother\, but about healing your relationship with yourself and others in a present and future tense. \nWorking through forgiveness and being able to let go of past negativity in both codependency and the healing of the mother wound is essential for developing self-esteem and personal autonomy moving forward. \n  \nTHINGS YOU SHOULD KNOW/BRING\n\n\n2-4 hours prior to the ceremony we highly suggest participants have a light meal\, and avoid heavy foods and alcohol. *Please note\, if you have kidney disease\, consult your doctor before participating.\nPlease bring your own mug/cup/vessel for the cacao ceremony that means something to you. Let it bask in the loving energy.\nBring a yoga mat\, pillow\, blanket\, eye mask\, or anything else you need to feel cozy comfy for your sound journey.\nBring any items for the alter that you would like charged.\nBring a pen/journal to jot any notes down for yourself.\n\n  \nAs always\, please reach out with any questions or concerns.
URL:https://lunarlotus.org/event/mother-wound-workshop-sound-healing-and-cacao-ceremony/
LOCATION:Pier to Point Wellness\, 4166 Voltaire St\, San Diego\, CA\, 92107\, United States
CATEGORIES:Cacao,Meditation,Sound Healing
ATTACH;FMTTYPE=image/png:https://lunarlotus.org/wp-content/uploads/2022/03/77d3301bf380425585a09ad1e2ed52ca.png
END:VEVENT
BEGIN:VEVENT
DTSTART;TZID=Europe/London:20220201T190000
DTEND;TZID=Europe/London:20220201T210000
DTSTAMP:20260424T004059
CREATED:20220130T165034Z
LAST-MODIFIED:20220318T080635Z
UID:250-1643742000-1643749200@lunarlotus.org
SUMMARY:Snow Moon Circle
DESCRIPTION:The next new moon is the Snow Moon February 1st. The snow moon requires rest and presence of mind\, allowing you to take time to recharge and reinvigorate your state of being. Remind yourself of the integral breaks in the universe\, and of the cleansing powers of snow and winter.\n\nWe’ll meet at Fiesta Island towards the end of the loop at a fire pit. I’ll bring wood to keep us warm and supplies to cast a circle. With this moons energy asking us to rest we will have a relaxing get together with a small ritual to cleanse ourselves of the bullshit be brought with us from 2021. A journal or paper and something to write with are highly recommended\, but no worries if journaling isn’t your thing.\n\nFeel free to bring snacks and drinks to share but remember to keep it Covid friendly by bringing your own cup\, plates and silverware. And dress warm\, we will have a fire but it can still get cold on Fiesta.\nYou are welcome to bring any witch supplies to help create an alter for the circle but nothing is required. Look forward to seeing your beautiful faces. If you can’t make this one\, no worries we’ll hopefully see you next month.
URL:https://lunarlotus.org/event/snow-moon-circle/
LOCATION:Fiesta Island\, Fiesta Island Rd\, San Diego\, CA\, 92109\, United States
CATEGORIES:Meditation
ATTACH;FMTTYPE=image/jpeg:https://lunarlotus.org/wp-content/uploads/2022/01/moon-circle.jpg
END:VEVENT
BEGIN:VEVENT
DTSTART;VALUE=DATE:20160520
DTEND;VALUE=DATE:20160523
DTSTAMP:20260424T004059
CREATED:20160218T230555Z
LAST-MODIFIED:20230408T022113Z
UID:2880-1463702400-1463961599@lunarlotus.org
SUMMARY:2016 Women's Self-Love/Self-Empowerment Retreat in Joshua Tree
DESCRIPTION:“Many of the big external obstacles (political\, legislative\, cultural) have been cleared for us by the great and brave women who came before us. We stand on their shoulders and we should be grateful. \nBut now we are left to battle the lingering prejudices in our own minds that convince us we are not worthy—not good enough\, not strong enough\, not talented enough\, not brave enough. ” ~ Elizabeth Gilbert \n¸.•*´¨`*•.¸¸.•*´¨`*•.¸¸.•*´¨`*•.¸¸.•*´¨`*•.¸ \n\nWe’d like to welcome you to a beautifully transformative place to retreat\, renew\, and reconnect with nature. \nKnown as the land of 10\,000 stories\, this magical 640 acres has been owned and maintained by Garth for over 30 years. This desert sanctuary runs on permaculture and solar energy\, in an attempt to create synergy between natural oncology and human systems. \n \n¸.•*´¨`*•.¸¸.•*´¨`*•.¸¸.•*´¨`*•.¸¸.•*´¨`*•.¸ \n  \nWe will be exploring various ways of reconnecting with self and other\, all with the aim of finding acceptance\, love\, compassion\, and empowerment for one’s self and others. \nWe have some fabulous instructors who will cover multiple modalities including yoga\, meditation\, power animals by way of a group guided shamanic journey\, working with medicine cards\, essential oils\, and more. \nThere will also be time to explore the land and relax in to yourself. \n¸.•*´¨`*•.¸¸.•*´¨`*•.¸¸.•*´¨`*•.¸¸.•*´¨`*•.¸\nCarpooling is recommended. Further details and instructions will be provided via email closer to the event.
URL:https://lunarlotus.org/event/2016-womens-self-love-self-empowerment-retreat-in-joshua-tree/
LOCATION:Garth’s Boulder Gardens\, Yucca Valley\, CA\, United States
CATEGORIES:Empowerment,Meditation,Retreat,Social Gathering
ATTACH;FMTTYPE=image/jpeg:https://lunarlotus.org/wp-content/uploads/2016/02/pj-1.jpg
END:VEVENT
END:VCALENDAR