BEGIN:VCALENDAR
VERSION:2.0
PRODID:-//Lunar Lotus Retreats - ECPv6.15.20//NONSGML v1.0//EN
CALSCALE:GREGORIAN
METHOD:PUBLISH
X-ORIGINAL-URL:https://lunarlotus.org
X-WR-CALDESC:Events for Lunar Lotus Retreats
REFRESH-INTERVAL;VALUE=DURATION:PT1H
X-Robots-Tag:noindex
X-PUBLISHED-TTL:PT1H
BEGIN:VTIMEZONE
TZID:America/Los_Angeles
BEGIN:DAYLIGHT
TZOFFSETFROM:-0800
TZOFFSETTO:-0700
TZNAME:PDT
DTSTART:20210314T100000
END:DAYLIGHT
BEGIN:STANDARD
TZOFFSETFROM:-0700
TZOFFSETTO:-0800
TZNAME:PST
DTSTART:20211107T090000
END:STANDARD
BEGIN:DAYLIGHT
TZOFFSETFROM:-0800
TZOFFSETTO:-0700
TZNAME:PDT
DTSTART:20220313T100000
END:DAYLIGHT
BEGIN:STANDARD
TZOFFSETFROM:-0700
TZOFFSETTO:-0800
TZNAME:PST
DTSTART:20221106T090000
END:STANDARD
BEGIN:DAYLIGHT
TZOFFSETFROM:-0800
TZOFFSETTO:-0700
TZNAME:PDT
DTSTART:20230312T100000
END:DAYLIGHT
BEGIN:STANDARD
TZOFFSETFROM:-0700
TZOFFSETTO:-0800
TZNAME:PST
DTSTART:20231105T090000
END:STANDARD
END:VTIMEZONE
BEGIN:VTIMEZONE
TZID:UTC
BEGIN:STANDARD
TZOFFSETFROM:+0000
TZOFFSETTO:+0000
TZNAME:UTC
DTSTART:20210101T000000
END:STANDARD
END:VTIMEZONE
BEGIN:VTIMEZONE
TZID:Europe/London
BEGIN:DAYLIGHT
TZOFFSETFROM:+0000
TZOFFSETTO:+0100
TZNAME:BST
DTSTART:20210328T010000
END:DAYLIGHT
BEGIN:STANDARD
TZOFFSETFROM:+0100
TZOFFSETTO:+0000
TZNAME:GMT
DTSTART:20211031T010000
END:STANDARD
BEGIN:DAYLIGHT
TZOFFSETFROM:+0000
TZOFFSETTO:+0100
TZNAME:BST
DTSTART:20220327T010000
END:DAYLIGHT
BEGIN:STANDARD
TZOFFSETFROM:+0100
TZOFFSETTO:+0000
TZNAME:GMT
DTSTART:20221030T010000
END:STANDARD
BEGIN:DAYLIGHT
TZOFFSETFROM:+0000
TZOFFSETTO:+0100
TZNAME:BST
DTSTART:20230326T010000
END:DAYLIGHT
BEGIN:STANDARD
TZOFFSETFROM:+0100
TZOFFSETTO:+0000
TZNAME:GMT
DTSTART:20231029T010000
END:STANDARD
END:VTIMEZONE
BEGIN:VEVENT
DTSTART;TZID=America/Los_Angeles:20220403T120000
DTEND;TZID=America/Los_Angeles:20220403T150000
DTSTAMP:20260424T004142
CREATED:20220325T000007Z
LAST-MODIFIED:20230408T021716Z
UID:3259-1648987200-1648998000@lunarlotus.org
SUMMARY:Women's Self Defense 3-hr Intensive (Level 1)
DESCRIPTION:Join us for this intro level Women’s Self Defense 3-hour Intensive
URL:https://lunarlotus.org/event/womens-self-defense-3-hr-intensive-level-1-2/
LOCATION:CA
CATEGORIES:Empowerment,Self-Defense
ATTACH;FMTTYPE=image/jpeg:https://lunarlotus.org/wp-content/uploads/2022/03/265535c56df6435b39fc815fb3091a58.jpg
END:VEVENT
BEGIN:VEVENT
DTSTART;TZID=America/Los_Angeles:20220403T120000
DTEND;TZID=America/Los_Angeles:20220403T150000
DTSTAMP:20260424T004142
CREATED:20220318T064957Z
LAST-MODIFIED:20230408T023650Z
UID:2837-1648987200-1648998000@lunarlotus.org
SUMMARY:Women's Self Defense 3-hr Intensive (Level 1)
DESCRIPTION:Join us for this intro level Women’s Self Defense 3-hour Intensive\n\n\n\n\n\nAbout this event\n\n\nTony Cohen has been teaching military Krav Maga to professional personnel for decades\, and civilian classes since 2011 upon separation from the State of Israel. He has notable students like Daniel Craig and Clive Owen. Tony is an active member of the Ocean Beach community\, and cares about everyone’s safety; and as such has come out of retirement specifically to assist our group of women with some self-defense classes. \nTony is one of the few instructors that are licensed to teach Military level classes to civilians. His course does not use a belt system\, and is not meant to require repeat classes in order to complete the training. (Although you are welcome to attend multiple classes for refreshers/practice) \n\n\n\nThese intensives will focus heavily on situational awareness\, and reactive self-defense with the intent to remove yourself from a dangerous situation. This is not a fighting class\, nor is it intended for you to use in a sport-based manner\, or exercise routine. \n  \n**Please note the following items:\n\nThese courses require a minimum number of participants in order to rehearse the self-defense moves being taught. If the minimum number of participants is not met\, we will reach out with a cancellation notification\, with the option for a refund or a transfer to another date.\nThe techniques taught in this course could prove fatal to the attacker you are defending against\, and as such\, a full liability waiver is required from all participants.\nParticipation in the course also implies approval to be recorded on video or photographed for promotional purposes for future events.\n\n\n\n\nOne of our ongoing commitments is to donate to Center for Community Solutions\, here in San Diego.\n\n\nCCS is committed to helping survivors of intimate partner violence and sexual assault lead safer and healthier lives.If you would like to volunteer\, or donate to CCS directly\, please visit their website: https://www.ccssd.org/how-to-help/volunteer.html
URL:https://lunarlotus.org/event/womens-self-defense-3-hr-intensive-level-1/
LOCATION:Ebers Street Park and Playground\, Ebers & Saratoga\, San Diego\, CA\, 92107
CATEGORIES:Empowerment,Self-Defense
ATTACH;FMTTYPE=image/jpeg:https://lunarlotus.org/wp-content/uploads/2022/03/265535c56df6435b39fc815fb3091a58.jpg
END:VEVENT
BEGIN:VEVENT
DTSTART;TZID=UTC:20220312T120000
DTEND;TZID=UTC:20220312T150000
DTSTAMP:20260424T004142
CREATED:20210517T205249Z
LAST-MODIFIED:20230408T023800Z
UID:2470-1647086400-1647097200@lunarlotus.org
SUMMARY:Women's Self Defense 3-hr Intensive (Level 1)
DESCRIPTION:About this event\n\n\nTony Cohen has been teaching military Krav Maga to professional personnel for decades\, and civilian classes since 2011 upon separation from the State of Israel. He has notable students like Daniel Craig and Clive Owen. Tony is an active member of the Ocean Beach community\, and cares about everyone’s safety; and as such has come out of retirement specifically to assist our group of women with some self-defense classes. \nTony is one of the few instructors that are licensed to teach Military level classes to civilians. His course does not use a belt system\, and is not meant to require repeat classes in order to complete the training. (Although you are welcome to attend multiple classes for refreshers/practice) \n\n\n\nThese intensives will focus heavily on situational awareness\, and reactive self-defense with the intent to remove yourself from a dangerous situation. This is not a fighting class\, nor is it intended for you to use in a sport-based manner\, or exercise routine. \n  \n**Please note the following items:\n\nThese courses require a minimum number of participants in order to rehearse the self-defense moves being taught. If the minimum number of participants is not met\, we will reach out with a cancellation notification\, with the option for a refund or a transfer to another date.\nThe techniques taught in this course could prove fatal to the attacker you are defending against\, and as such\, a full liability waiver is required from all participants.\nParticipation in the course also implies approval to be recorded on video or photographed for promotional purposes for future events.\n\n\n\n\nOne of our ongoing commitments is to donate to Center for Community Solutions\, here in San Diego.\n\n\n\nCCS is committed to helping survivors of intimate partner violence and sexual assault lead safer and healthier lives. \nIf you would like to volunteer\, or donate to CCS directly\, please visit their website: https://www.ccssd.org/how-to-help/volunteer.html
URL:https://lunarlotus.org/event/womens-self-defense-level-1-march/
LOCATION:Ebers Street Park and Playground\, Ebers & Saratoga\, San Diego\, CA\, 92107
CATEGORIES:Empowerment,Self-Defense,Workshop
END:VEVENT
BEGIN:VEVENT
DTSTART;TZID=Europe/London:20220310T180000
DTEND;TZID=Europe/London:20220310T210000
DTSTAMP:20260424T004142
CREATED:20220304T215244Z
LAST-MODIFIED:20230408T024652Z
UID:1648-1646935200-1646946000@lunarlotus.org
SUMMARY:Women's Safety Seminar
DESCRIPTION:Join us for our inaugural Women’s Safety Seminar with Local Guest Speakers\n\n\n\n\n\nAbout this event\n\n\nDuring this hour we’ll have local OBMA members discussing steps you can take in your day\, to promote safety for yourself and others. \n\nWe will have short demonstrations of common situations\, and how they can be avoided or escaped quickly.\nA discussion about “Fight\, Flight\, or Freeze” and what breathing techniques you can use to soothe your nervous system in times of trauma or anxiety.\nWith an intro by Attorney Alara Chilton\, who will be discussing assault statistics\, sharing her personal assault story\, and sharing legal resources.\n\nAlara Chilton is a Spanish speaking civil attorney focused on seeking justice for victims of consumer fraud and sexual assault. \n\nTwo lucky participants will win a safety tool they can take home.\n\n  \nAll ticket fees will be donated to the Center for Community Solutions.\n \nCCS is committed to helping survivors of intimate partner violence and sexual assault lead safer and healthier lives. \n\n\n \nAfter the presentation\, we will have a mix & mingle where you can ask questions\, discuss concerns\, and learn about taking a self-defense class. \n\n\nNow the legal mumbo jumbo: By purchasing a ticket\, you acknowledge that you have read and understood the Terms and Conditions in its entirety and agree to abide by it as it is listed below. \n~~~~~~~~~~~~~~~~~~~~~~~~~~~~~~~~~~~~ \nThe Legal Stuff You Must Agree To:\n(Terms and Conditions) \nEvent sponsors have made every effort to make this event a safe and productive gathering. By attending you acknowledge and agree to the following: \nTRIGGER WARNING: During this event there will be both stories and demonstrations shared that could be triggering to certain individuals\, depending on their personal experiences. \n  \nMINORS: Children under 15 years old must be accompanied by an adult. \n  \nFOOD & DRINK: The event may include alcoholic beverages and you must be 21+ to consume alcohol. Attendees acknowledge that they are aware of the risks of participation including food sickness and allergic reactions. \n  \nWAIVER OF LIABILITY: By attending the event\, and in light of the above\, you acknowledge the inherent risks of participation and agree to voluntarily assume all risks. You agree not to hold any event sponsors or attendees liable for any illness or injury that may occur. Any reliance you place on the information\, products\, or services provided is strictly at your own risk. You agree that sponsors and attendees are not liable for any decisions made or actions taken in reliance on information provided. \n  \nPAYMENT & CANCELLATION Full advance payment is required to attend. Please note that reimbursements for cancellations or no-shows will not be given so be absolutely sure you’re attending when you book. Speak to us regarding any illness/covid concerns prior to the event date for possible reschedule to another event.
URL:https://lunarlotus.org/event/womens-safety-seminar/
LOCATION:OB Brewery\, 5041 Newport Ave\, San Diego\, CA\, 92107\, United States
CATEGORIES:Empowerment,Fundraising,Self-Defense,Workshop
ATTACH;FMTTYPE=image/jpeg:https://lunarlotus.org/wp-content/uploads/2022/03/IMG_5590-scaled-1-scaled.jpg
END:VEVENT
END:VCALENDAR